BEGIN:VCALENDAR
VERSION:2.0
PRODID:-//JCCI Chapel of Grace &amp; Glory - ECPv5.3.2//NONSGML v1.0//EN
CALSCALE:GREGORIAN
METHOD:PUBLISH
X-WR-CALNAME:JCCI Chapel of Grace &amp; Glory
X-ORIGINAL-URL:https://jccimaryland.org
X-WR-CALDESC:Events for JCCI Chapel of Grace &amp; Glory
BEGIN:VTIMEZONE
TZID:America/New_York
BEGIN:DAYLIGHT
TZOFFSETFROM:-0500
TZOFFSETTO:-0400
TZNAME:EDT
DTSTART:20210314T070000
END:DAYLIGHT
BEGIN:STANDARD
TZOFFSETFROM:-0400
TZOFFSETTO:-0500
TZNAME:EST
DTSTART:20211107T060000
END:STANDARD
END:VTIMEZONE
BEGIN:VEVENT
DTSTART;TZID=America/New_York:20210807T120000
DTEND;TZID=America/New_York:20210807T140000
DTSTAMP:20260419T084958
CREATED:20210705T173514Z
LAST-MODIFIED:20210705T173842Z
UID:1564-1628337600-1628344800@jccimaryland.org
SUMMARY:JBOL Grocery Giveaway
DESCRIPTION:
URL:https://jccimaryland.org/event/jbol-grocery-giveaway-2/
LOCATION:JCCI Maryland\, 4350\, Kenilworth Ave\, Hyattsville\, MD\, 20710\, United States
CATEGORIES:Upcoming Events
ATTACH;FMTTYPE=image/png:https://jccimaryland.org/wp-content/uploads/2021/07/Orange-Groceries-Delivery-Instagram-Post.png
ORGANIZER;CN="Jubilee%20Bread%20of%20Life":MAILTO:welcome@jccimaryland.org
END:VEVENT
END:VCALENDAR